BEGIN:VCALENDAR
VERSION:2.0
PRODID:-//Dickinson//NONSGML v1.0//EN
CALSCALE:GREGORIAN
BEGIN:VEVENT
DTEND:20260513T190000Z
UID:69e99e79dfe7c
DTSTAMP:20260423T042217Z
LOCATION:7441
DESCRIPTION:http://www.dickinson.edu/events/event/32654/\n\nThis hands-on workshop introduces PhotoVoice as a participatory\, arts-based teaching approach that invites students to use photography for storytelling\, reflection\, and dialogue.
URL;VALUE=URI:http://www.dickinson.edu/events/event/32654/
SUMMARY:PhotoVoice Visual Storytelling\, Reflection\, and Dialogue
DTSTART:20260513T140000Z
END:VEVENT
END:VCALENDAR