BEGIN:VCALENDAR
VERSION:2.0
PRODID:-//Dickinson//NONSGML v1.0//EN
CALSCALE:GREGORIAN
BEGIN:VEVENT
DTEND:20260725T003000Z
UID:69ecf016530d1
DTSTAMP:20260425T164718Z
LOCATION:7440
DESCRIPTION:http://www.dickinson.edu/events/event/32653/\n\nJoin fellow Dickinsonians for a scenic sunset cruise around the calm Back Bay waters of Avalon.
URL;VALUE=URI:http://www.dickinson.edu/events/event/32653/
SUMMARY:Avalon Sunset Sail
DTSTART:20260724T223000Z
END:VEVENT
END:VCALENDAR