BEGIN:VCALENDAR
VERSION:2.0
PRODID:-//Dickinson//NONSGML v1.0//EN
CALSCALE:GREGORIAN
BEGIN:VEVENT
DTEND:20260423T160000Z
UID:69e8c00e3d7ac
DTSTAMP:20260422T123318Z
LOCATION:2821
DESCRIPTION:http://www.dickinson.edu/events/event/32651/\n\nPlease stop by Biddle House  to meet with Judge Gutierrez. Bring your questions and come have an informal conversation about law school\, legal careers\, and her professional journey.
URL;VALUE=URI:http://www.dickinson.edu/events/event/32651/
SUMMARY:Drop in hours with Judge Gutierrez '09
DTSTART:20260423T143000Z
END:VEVENT
END:VCALENDAR