BEGIN:VCALENDAR
VERSION:2.0
PRODID:-//Dickinson//NONSGML v1.0//EN
CALSCALE:GREGORIAN
BEGIN:VEVENT
DTEND:20260507T153000Z
UID:69ea40242a336
DTSTAMP:20260423T155204Z
LOCATION:4391
DESCRIPTION:http://www.dickinson.edu/events/event/32649/\n\nHosted by Human Resource Services.
URL;VALUE=URI:http://www.dickinson.edu/events/event/32649/
SUMMARY:Money Psychology: Beyond the Numbers
DTSTART:20260507T150000Z
END:VEVENT
END:VCALENDAR