BEGIN:VCALENDAR
VERSION:2.0
PRODID:-//Dickinson//NONSGML v1.0//EN
CALSCALE:GREGORIAN
BEGIN:VEVENT
DTEND:20260425T010000Z
UID:69e8d4dd9cfc4
DTSTAMP:20260422T140205Z
LOCATION:7146
DESCRIPTION:http://www.dickinson.edu/events/event/32647/\n\nGame Night at Mob House!
URL;VALUE=URI:http://www.dickinson.edu/events/event/32647/
SUMMARY:Mob House Game Night
DTSTART:20260425T000000Z
END:VEVENT
END:VCALENDAR