BEGIN:VCALENDAR
VERSION:2.0
PRODID:-//Dickinson//NONSGML v1.0//EN
CALSCALE:GREGORIAN
BEGIN:VEVENT
DTEND:20260425T180000Z
UID:69e8d4ddbfe1c
DTSTAMP:20260422T140205Z
LOCATION:3945
DESCRIPTION:http://www.dickinson.edu/events/event/32646/\n\nThe community is invited to celebrate Earth Day with an educational walk along the Letort Nature Trail during “Earth Day at the Letort.” 
URL;VALUE=URI:http://www.dickinson.edu/events/event/32646/
SUMMARY:Letort Earth Day
DTSTART:20260425T140000Z
END:VEVENT
END:VCALENDAR