BEGIN:VCALENDAR
VERSION:2.0
PRODID:-//Dickinson//NONSGML v1.0//EN
CALSCALE:GREGORIAN
BEGIN:VEVENT
DTEND:20260627T200000Z
UID:69e80725cf27c
DTSTAMP:20260421T232421Z
LOCATION:7438
DESCRIPTION:http://www.dickinson.edu/events/event/32642/\n\nJoin Young Alumni Dickinsonians from the Washington\, D.C. region for a Watson Adventures Scavenger Hunt at the National Gallery of Art.
URL;VALUE=URI:http://www.dickinson.edu/events/event/32642/
SUMMARY:Young Alumni Washington\, D.C. Scavenger Hunt
DTSTART:20260627T170000Z
END:VEVENT
END:VCALENDAR