BEGIN:VCALENDAR
VERSION:2.0
PRODID:-//Dickinson//NONSGML v1.0//EN
CALSCALE:GREGORIAN
BEGIN:VEVENT
DTEND:20260423T224000Z
UID:69e7acdb29167
DTSTAMP:20260421T165907Z
LOCATION:6237
DESCRIPTION:http://www.dickinson.edu/events/event/32637/\n\nJoin the Clarke Forum for food\, drinks\, and conversation with our guest speaker\, Dr. Viorica Marian from 5:30 - 6:40 p.m. at 249 West Louther Street.
URL;VALUE=URI:http://www.dickinson.edu/events/event/32637/
SUMMARY:Clarke Forum Reception for Dr. Viorica Marian
DTSTART:20260423T213000Z
END:VEVENT
END:VCALENDAR