BEGIN:VCALENDAR
VERSION:2.0
PRODID:-//Dickinson//NONSGML v1.0//EN
CALSCALE:GREGORIAN
BEGIN:VEVENT
DTEND:20260421T170000Z
UID:69e6b27120584
DTSTAMP:20260420T231041Z
LOCATION:7436
DESCRIPTION:http://www.dickinson.edu/events/event/32636/\n\nCome and support Victor Heinze ’26 as he defends his honors thesis. Prof. Schaefer is his faculty advisor. Pizza provided and everyone welcome to attend.
URL;VALUE=URI:http://www.dickinson.edu/events/event/32636/
SUMMARY:Math & CS Chat - Honors Defense
DTSTART:20260421T160000Z
END:VEVENT
END:VCALENDAR