BEGIN:VCALENDAR
VERSION:2.0
PRODID:-//Dickinson//NONSGML v1.0//EN
CALSCALE:GREGORIAN
BEGIN:VEVENT
DTEND:20260423T170000Z
UID:69e8d4dd388af
DTSTAMP:20260422T140205Z
LOCATION:7435
DESCRIPTION:http://www.dickinson.edu/events/event/32635/\n\nElla Piergrossi `26 will present "Shedding Light on the Small Stuff: Mapping Ion Trajectories in Ultrafast Molecular Experiments". Pizza provided. Everyone welcome. Wear your Physics T-shirts.
URL;VALUE=URI:http://www.dickinson.edu/events/event/32635/
SUMMARY:Physics Colloquium
DTSTART:20260423T160000Z
END:VEVENT
END:VCALENDAR