BEGIN:VCALENDAR
VERSION:2.0
PRODID:-//Dickinson//NONSGML v1.0//EN
CALSCALE:GREGORIAN
BEGIN:VEVENT
DTEND:20260427T193000Z
UID:69e9cec069d6d
DTSTAMP:20260423T074816Z
LOCATION:860
DESCRIPTION:http://www.dickinson.edu/events/event/32634/\n\nThe Educational Studies Department - Senior Thesis Presentations.  Students will formally present their capstone research studies for questions and feedback provided by attendees.
URL;VALUE=URI:http://www.dickinson.edu/events/event/32634/
SUMMARY:EDST Dept. Senior Thesis Presentations
DTSTART:20260427T163000Z
END:VEVENT
END:VCALENDAR