BEGIN:VCALENDAR
VERSION:2.0
PRODID:-//Dickinson//NONSGML v1.0//EN
CALSCALE:GREGORIAN
BEGIN:VEVENT
DTEND:20260429T213000Z
UID:69e80725c26b9
DTSTAMP:20260421T232421Z
LOCATION:7429
DESCRIPTION:http://www.dickinson.edu/events/event/32622/\n\nJoin?fellow?Dickinson finance alumni through this Next Gen conversation\, designed for younger alumni and focused on building financial clarity early in your career. 
URL;VALUE=URI:http://www.dickinson.edu/events/event/32622/
SUMMARY:Take Control of Your Financial Future??
DTSTART:20260429T203000Z
END:VEVENT
END:VCALENDAR