BEGIN:VCALENDAR
VERSION:2.0
PRODID:-//Dickinson//NONSGML v1.0//EN
CALSCALE:GREGORIAN
BEGIN:VEVENT
DTEND:20260425T013000Z
UID:69e807258c026
DTSTAMP:20260421T232421Z
LOCATION:7428
DESCRIPTION:http://www.dickinson.edu/events/event/32621/\n\nWe’re thrilled to invite you to the Spring Concert on Friday\, April 24\, at 8:30 p.m. in Anita Tuvin Schlechter Auditorium (ATS) at Dickinson College.
URL;VALUE=URI:http://www.dickinson.edu/events/event/32621/
SUMMARY:Syrens Spring Concert 2026
DTSTART:20260425T003000Z
END:VEVENT
END:VCALENDAR