BEGIN:VCALENDAR
VERSION:2.0
PRODID:-//Dickinson//NONSGML v1.0//EN
CALSCALE:GREGORIAN
BEGIN:VEVENT
DTEND:20270212T230000Z
UID:69e636f760d55
DTSTAMP:20260420T142351Z
LOCATION:3607
DESCRIPTION:http://www.dickinson.edu/events/event/32616/\n\nWe invite you to take part in this blood drive and help support our local community.
URL;VALUE=URI:http://www.dickinson.edu/events/event/32616/
SUMMARY:Central PA Blood Bank Blood Drive
DTSTART:20270212T150000Z
END:VEVENT
END:VCALENDAR