BEGIN:VCALENDAR
VERSION:2.0
PRODID:-//Dickinson//NONSGML v1.0//EN
CALSCALE:GREGORIAN
BEGIN:VEVENT
DTEND:20260508T210000Z
UID:69ea40242a335
DTSTAMP:20260423T155204Z
LOCATION:7423
DESCRIPTION:http://www.dickinson.edu/events/event/32607/\n\nCheck in to the library's Brain Spa and explore our various "treatments" meant to destress\, calm\, and energize you. 
URL;VALUE=URI:http://www.dickinson.edu/events/event/32607/
SUMMARY:Brain Spa: Pebble Pause
DTSTART:20260508T120000Z
END:VEVENT
END:VCALENDAR