BEGIN:VCALENDAR
VERSION:2.0
PRODID:-//Dickinson//NONSGML v1.0//EN
CALSCALE:GREGORIAN
BEGIN:VEVENT
DTEND:20260501T210000Z
UID:69e518e9d02b7
DTSTAMP:20260419T180321Z
LOCATION:341
DESCRIPTION:http://www.dickinson.edu/events/event/32575/\n\nPlease join us at the College Farm on Friday afternoons for Weed-n-Feed! Volunteer your time helping out at the farm\, then enjoy local and seasonal goodies at the end! 
URL;VALUE=URI:http://www.dickinson.edu/events/event/32575/
SUMMARY:Weed-n-Feed at the College Farm
DTSTART:20260501T170000Z
END:VEVENT
END:VCALENDAR