BEGIN:VCALENDAR
VERSION:2.0
PRODID:-//Dickinson//NONSGML v1.0//EN
CALSCALE:GREGORIAN
BEGIN:VEVENT
DTEND:20260526T190000Z
UID:69e81f0158da1
DTSTAMP:20260422T010609Z
LOCATION:7378
DESCRIPTION:http://www.dickinson.edu/events/event/32547/\n\nA great way to kick off your summer writing or plan summer projects!
URL;VALUE=URI:http://www.dickinson.edu/events/event/32547/
SUMMARY:May Writing Retreat
DTSTART:20260526T140000Z
END:VEVENT
END:VCALENDAR