BEGIN:VCALENDAR
VERSION:2.0
PRODID:-//Dickinson//NONSGML v1.0//EN
CALSCALE:GREGORIAN
BEGIN:VEVENT
DTEND:20260508T173000Z
UID:69ece5713a896
DTSTAMP:20260425T160153Z
LOCATION:7416
DESCRIPTION:http://www.dickinson.edu/events/event/32534/\n\nThe Wellness Center invites students to join us for free pizza\, giveaways\, and fun activities!
URL;VALUE=URI:http://www.dickinson.edu/events/event/32534/
SUMMARY:Slice into Success
DTSTART:20260508T153000Z
END:VEVENT
END:VCALENDAR