BEGIN:VCALENDAR
VERSION:2.0
PRODID:-//Dickinson//NONSGML v1.0//EN
CALSCALE:GREGORIAN
BEGIN:VEVENT
DTEND:20260422T180000Z
UID:69e80725d2e10
DTSTAMP:20260421T232421Z
LOCATION:7122
DESCRIPTION:http://www.dickinson.edu/events/event/32394/\n\nKappa Alpha Theta fundraising event for C.A.S.A
URL;VALUE=URI:http://www.dickinson.edu/events/event/32394/
SUMMARY:Theta Runs on Dunkin
DTSTART:20260422T143000Z
END:VEVENT
END:VCALENDAR