BEGIN:VCALENDAR
VERSION:2.0
PRODID:-//Dickinson//NONSGML v1.0//EN
CALSCALE:GREGORIAN
BEGIN:VEVENT
DTEND:20260421T180000Z
UID:69e979365876c
DTSTAMP:20260423T014318Z
LOCATION:7122
DESCRIPTION:http://www.dickinson.edu/events/event/32393/\n\nKappa Alpha Theta fundraising event for C.A.S.A
URL;VALUE=URI:http://www.dickinson.edu/events/event/32393/
SUMMARY:Theta Runs on Dunkin
DTSTART:20260421T143000Z
END:VEVENT
END:VCALENDAR