BEGIN:VCALENDAR
VERSION:2.0
PRODID:-//Dickinson//NONSGML v1.0//EN
CALSCALE:GREGORIAN
BEGIN:VEVENT
DTEND:20260228T203000Z
UID:69ebce80a552f
DTSTAMP:20260424T201144Z
LOCATION:7299
DESCRIPTION:http://www.dickinson.edu/events/event/32144/\n\nCome support the men's tennis team as they take on Kutztown. Go Red Devils!
URL;VALUE=URI:http://www.dickinson.edu/events/event/32144/
SUMMARY:Men's Tennis
DTSTART:20260228T190000Z
END:VEVENT
END:VCALENDAR