BEGIN:VCALENDAR
VERSION:2.0
PRODID:-//Dickinson//NONSGML v1.0//EN
CALSCALE:GREGORIAN
BEGIN:VEVENT
DTEND:20260509T150000Z
UID:69e80dd9ddab0
DTSTAMP:20260421T235257Z
LOCATION:7296
DESCRIPTION:http://www.dickinson.edu/events/event/32134/\n\nJoin us for a guided tour of the Hammond Castle Museum! 
URL;VALUE=URI:http://www.dickinson.edu/events/event/32134/
SUMMARY:Dickinson at Hammond Castle Museum
DTSTART:20260509T140000Z
END:VEVENT
END:VCALENDAR