BEGIN:VCALENDAR
VERSION:2.0
PRODID:-//Dickinson//NONSGML v1.0//EN
CALSCALE:GREGORIAN
BEGIN:VEVENT
DTEND:20260509T230000Z
UID:69e80dd9d48cc
DTSTAMP:20260421T235257Z
LOCATION:7295
DESCRIPTION:http://www.dickinson.edu/events/event/32133/\n\nWatch the Red Sox take on the Rays during this annual night at Fenway for Boston-based Dickinsonians and families!
URL;VALUE=URI:http://www.dickinson.edu/events/event/32133/
SUMMARY:Dickinson at Fenway: Boston Red Sox vs. Tampa Bay Rays
DTSTART:20260509T201000Z
END:VEVENT
END:VCALENDAR