BEGIN:VCALENDAR
VERSION:2.0
PRODID:-//Dickinson//NONSGML v1.0//EN
CALSCALE:GREGORIAN
BEGIN:VEVENT
DTEND:20260228T180000Z
UID:69ebce80a7d2a
DTSTAMP:20260424T201144Z
LOCATION:5202
DESCRIPTION:http://www.dickinson.edu/events/event/32124/\n\nCome discuss the movie we watched with the philosophy collective
URL;VALUE=URI:http://www.dickinson.edu/events/event/32124/
SUMMARY:Movie Discussion
DTSTART:20260228T160000Z
END:VEVENT
END:VCALENDAR