BEGIN:VCALENDAR
VERSION:2.0
PRODID:-//Dickinson//NONSGML v1.0//EN
CALSCALE:GREGORIAN
BEGIN:VEVENT
DTEND:20260430T220000Z
UID:69e9e77a0d1cf
DTSTAMP:20260423T093346Z
LOCATION:5526
DESCRIPTION:http://www.dickinson.edu/events/event/32068/\n\nPlease join us for the 2026 Creative Writing Senior Reading. All are welcome. Refreshments provided.
URL;VALUE=URI:http://www.dickinson.edu/events/event/32068/
SUMMARY:Creative Writing Senior Reading
DTSTART:20260430T210000Z
END:VEVENT
END:VCALENDAR