BEGIN:VCALENDAR
VERSION:2.0
PRODID:-//Dickinson//NONSGML v1.0//EN
CALSCALE:GREGORIAN
BEGIN:VEVENT
DTEND:20260228T213000Z
UID:69ebe78317d31
DTSTAMP:20260424T215827Z
LOCATION:7282
DESCRIPTION:http://www.dickinson.edu/events/event/32059/\n\nThe Dickinson Equestrian Team will be going to Swan Lake Stables to compete in our first show of the Spring semester!
URL;VALUE=URI:http://www.dickinson.edu/events/event/32059/
SUMMARY:Horse Show
DTSTART:20260228T123000Z
END:VEVENT
END:VCALENDAR