BEGIN:VCALENDAR
VERSION:2.0
PRODID:-//Dickinson//NONSGML v1.0//EN
CALSCALE:GREGORIAN
BEGIN:VEVENT
DTEND:20260219T040000Z
UID:69ebb9c26a2e9
DTSTAMP:20260424T184314Z
LOCATION:2323
DESCRIPTION:http://www.dickinson.edu/events/event/32055/\n\nKappa Alpha Theta New Member Education Meeting
URL;VALUE=URI:http://www.dickinson.edu/events/event/32055/
SUMMARY:New Member Education Meeting
DTSTART:20260219T020000Z
END:VEVENT
END:VCALENDAR