BEGIN:VCALENDAR
VERSION:2.0
PRODID:-//Dickinson//NONSGML v1.0//EN
CALSCALE:GREGORIAN
BEGIN:VEVENT
DTEND:20260219T004500Z
UID:69ebbbeb778d5
DTSTAMP:20260424T185227Z
LOCATION:2323
DESCRIPTION:http://www.dickinson.edu/events/event/32054/\n\nJoin College Democrats for a Conversation with Rick Christie\, Democratic Candidate for State Representative in PA's 199th District!
URL;VALUE=URI:http://www.dickinson.edu/events/event/32054/
SUMMARY:College Democrats Meeting: A Conversation with Rick Christie
DTSTART:20260219T000000Z
END:VEVENT
END:VCALENDAR