BEGIN:VCALENDAR
VERSION:2.0
PRODID:-//Dickinson//NONSGML v1.0//EN
CALSCALE:GREGORIAN
BEGIN:VEVENT
DTEND:20260219T010000Z
UID:69ebb75f777d5
DTSTAMP:20260424T183303Z
LOCATION:22
DESCRIPTION:http://www.dickinson.edu/events/event/32040/\n\nKappa Alpha Theta Chapter Meeting
URL;VALUE=URI:http://www.dickinson.edu/events/event/32040/
SUMMARY:Kappa Alpha Theta Chapter Meeting
DTSTART:20260219T000000Z
END:VEVENT
END:VCALENDAR