BEGIN:VCALENDAR
VERSION:2.0
PRODID:-//Dickinson//NONSGML v1.0//EN
CALSCALE:GREGORIAN
BEGIN:VEVENT
DTEND:20260228T233000Z
UID:69ebe747273cd
DTSTAMP:20260424T215727Z
LOCATION:2323
DESCRIPTION:http://www.dickinson.edu/events/event/32038/\n\nCome join us for some open play!! All levels of experience are welcome!
URL;VALUE=URI:http://www.dickinson.edu/events/event/32038/
SUMMARY:Club Squash Practice
DTSTART:20260228T213000Z
END:VEVENT
END:VCALENDAR