BEGIN:VCALENDAR
VERSION:2.0
PRODID:-//Dickinson//NONSGML v1.0//EN
CALSCALE:GREGORIAN
BEGIN:VEVENT
DTEND:20260505T173000Z
UID:69eb156450f21
DTSTAMP:20260424T070156Z
LOCATION:7277
DESCRIPTION:http://www.dickinson.edu/events/event/32036/\n\nJoin Samantha Brandauer '95\, executive director of the Center for Global Study & Engagement and associate provost\, at our second-annual women’s buffet luncheon in Philadelphia.
URL;VALUE=URI:http://www.dickinson.edu/events/event/32036/
SUMMARY:Philadelphia Women’s Luncheon
DTSTART:20260505T160000Z
END:VEVENT
END:VCALENDAR