BEGIN:VCALENDAR
VERSION:2.0
PRODID:-//Dickinson//NONSGML v1.0//EN
CALSCALE:GREGORIAN
BEGIN:VEVENT
DTEND:20260222T230000Z
UID:69ebce80addaf
DTSTAMP:20260424T201144Z
LOCATION:7276
DESCRIPTION:http://www.dickinson.edu/events/event/32034/\n\nOur club will compete in the York Women's Volleyball Club Tournament at York College. Come on out to support!
URL;VALUE=URI:http://www.dickinson.edu/events/event/32034/
SUMMARY:York Women's Volleyball Club Tournament
DTSTART:20260222T150000Z
END:VEVENT
END:VCALENDAR