BEGIN:VCALENDAR
VERSION:2.0
PRODID:-//Dickinson//NONSGML v1.0//EN
CALSCALE:GREGORIAN
BEGIN:VEVENT
DTEND:20260301T010000Z
UID:69ebe7831a7a2
DTSTAMP:20260424T215827Z
LOCATION:2789
DESCRIPTION:http://www.dickinson.edu/events/event/32021/\n\nCome join us in HUB Underground from 7-9pm and paint on some canvases\, rugs\, flower pots\, and tote bags!
URL;VALUE=URI:http://www.dickinson.edu/events/event/32021/
SUMMARY:Paint Night
DTSTART:20260301T000000Z
END:VEVENT
END:VCALENDAR