BEGIN:VCALENDAR
VERSION:2.0
PRODID:-//Dickinson//NONSGML v1.0//EN
CALSCALE:GREGORIAN
BEGIN:VEVENT
DTEND:20260218T230000Z
UID:69ebb75f77786
DTSTAMP:20260424T183303Z
LOCATION:2821
DESCRIPTION:http://www.dickinson.edu/events/event/32010/\n\nApogee Adventures is hosting an on?campus recruiting event to share summer opportunities for students to lead outdoor adventure programs across North America\, Europe\, and Latin America. 
URL;VALUE=URI:http://www.dickinson.edu/events/event/32010/
SUMMARY:Apogee Adventures Info Session
DTSTART:20260218T220000Z
END:VEVENT
END:VCALENDAR