BEGIN:VCALENDAR
VERSION:2.0
PRODID:-//Dickinson//NONSGML v1.0//EN
CALSCALE:GREGORIAN
BEGIN:VEVENT
DTEND:20260421T193000Z
UID:69e6b454219a0
DTSTAMP:20260420T231844Z
LOCATION:7273
DESCRIPTION:http://www.dickinson.edu/events/event/32008/\n\nDickinson College LGBTQ+ Center hosts The LGBT Center of Central PA's GSA Summit. 
URL;VALUE=URI:http://www.dickinson.edu/events/event/32008/
SUMMARY:Central PA 2026 GSA Summit 
DTSTART:20260421T113000Z
END:VEVENT
END:VCALENDAR