BEGIN:VCALENDAR
VERSION:2.0
PRODID:-//Dickinson//NONSGML v1.0//EN
CALSCALE:GREGORIAN
BEGIN:VEVENT
DTEND:20260222T213000Z
UID:69ebe74730ecf
DTSTAMP:20260424T215727Z
LOCATION:5345
DESCRIPTION:http://www.dickinson.edu/events/event/31987/\n\nCome join outing club for a 5 mile round trip (there and back) to the Cumberland Valley Overlook as part of the Appalachian Trail.  
URL;VALUE=URI:http://www.dickinson.edu/events/event/31987/
SUMMARY:Hike at Cumberland Valley Overlook (5 miles round trip) 
DTSTART:20260222T180000Z
END:VEVENT
END:VCALENDAR