BEGIN:VCALENDAR
VERSION:2.0
PRODID:-//Dickinson//NONSGML v1.0//EN
CALSCALE:GREGORIAN
BEGIN:VEVENT
DTEND:20260218T233000Z
UID:69ebb9943954e
DTSTAMP:20260424T184228Z
LOCATION:21
DESCRIPTION:http://www.dickinson.edu/events/event/31966/\n\nJoin us for a night of Bingo and Trivia with the A.C.E Peer Mentors Program!
URL;VALUE=URI:http://www.dickinson.edu/events/event/31966/
SUMMARY:A.C.E Peer Mentors Bingo/Trivia Night
DTSTART:20260218T220000Z
END:VEVENT
END:VCALENDAR