BEGIN:VCALENDAR
VERSION:2.0
PRODID:-//Dickinson//NONSGML v1.0//EN
CALSCALE:GREGORIAN
BEGIN:VEVENT
DTEND:20260424T190000Z
UID:69e63e6347aba
DTSTAMP:20260420T145531Z
LOCATION:7265
DESCRIPTION:http://www.dickinson.edu/events/event/31965/\n\nJoin fellow Dickinsonians for a private tour of the limited-time exhibit Monet and Venice at the de Young Museum. 
URL;VALUE=URI:http://www.dickinson.edu/events/event/31965/
SUMMARY:Monet and Venice Exhibit in San Francisco
DTSTART:20260424T163000Z
END:VEVENT
END:VCALENDAR