BEGIN:VCALENDAR
VERSION:2.0
PRODID:-//Dickinson//NONSGML v1.0//EN
CALSCALE:GREGORIAN
BEGIN:VEVENT
DTEND:20260221T020000Z
UID:69eae3316b8b4
DTSTAMP:20260424T032745Z
LOCATION:115
DESCRIPTION:http://www.dickinson.edu/events/event/31921/\n\nJoin MOB for a cozy craft night! 
URL;VALUE=URI:http://www.dickinson.edu/events/event/31921/
SUMMARY:DIY Snowman Craft Night
DTSTART:20260221T000000Z
END:VEVENT
END:VCALENDAR