BEGIN:VCALENDAR
VERSION:2.0
PRODID:-//Dickinson//NONSGML v1.0//EN
CALSCALE:GREGORIAN
BEGIN:VEVENT
DTEND:20260321T010000Z
UID:69ed264d8b224
DTSTAMP:20260425T203837Z
LOCATION:860
DESCRIPTION:http://www.dickinson.edu/events/event/31917/\n\nRun With It! Show 
URL;VALUE=URI:http://www.dickinson.edu/events/event/31917/
SUMMARY:Run With It! Show 
DTSTART:20260320T230000Z
END:VEVENT
END:VCALENDAR