BEGIN:VCALENDAR
VERSION:2.0
PRODID:-//Dickinson//NONSGML v1.0//EN
CALSCALE:GREGORIAN
BEGIN:VEVENT
DTEND:20260115T210000Z
UID:69ea3d89e1dc3
DTSTAMP:20260423T154057Z
LOCATION:7174
DESCRIPTION:http://www.dickinson.edu/events/event/31405/\n\nDickinson alumni and families are invited to attend a webinar led by a faculty expert in NATO enlargement\, European security issues\, transatlantic relations\, geopolitics and American foreign policy.
URL;VALUE=URI:http://www.dickinson.edu/events/event/31405/
SUMMARY:NATO and Transatlantic Relations in the Second Trump Administration
DTSTART:20260115T200000Z
END:VEVENT
END:VCALENDAR