BEGIN:VCALENDAR
VERSION:2.0
PRODID:-//Dickinson//NONSGML v1.0//EN
CALSCALE:GREGORIAN
BEGIN:VEVENT
DTEND:20251208T010000Z
UID:69ea88069959b
DTSTAMP:20260423T205846Z
LOCATION:7146
DESCRIPTION:http://www.dickinson.edu/events/event/31099/\n\nMob House Presenation Night!! Members of the house will create presentations on anything and present them!
URL;VALUE=URI:http://www.dickinson.edu/events/event/31099/
SUMMARY:MOB Presentation Night
DTSTART:20251208T000000Z
END:VEVENT
END:VCALENDAR