BEGIN:VCALENDAR
VERSION:2.0
PRODID:-//Dickinson//NONSGML v1.0//EN
CALSCALE:GREGORIAN
BEGIN:VEVENT
DTEND:20251208T040000Z
UID:69ea881c902b0
DTSTAMP:20260423T205908Z
LOCATION:7145
DESCRIPTION:http://www.dickinson.edu/events/event/31037/\n\nThe mock trial team will be running scrimmages in Denny 315.
URL;VALUE=URI:http://www.dickinson.edu/events/event/31037/
SUMMARY:Mock Trial Scrimmage Room
DTSTART:20251207T230000Z
END:VEVENT
END:VCALENDAR