BEGIN:VCALENDAR
VERSION:2.0
PRODID:-//Dickinson//NONSGML v1.0//EN
CALSCALE:GREGORIAN
BEGIN:VEVENT
DTEND:20251208T021500Z
UID:69ea881c9d4e5
DTSTAMP:20260423T205908Z
LOCATION:7143
DESCRIPTION:http://www.dickinson.edu/events/event/31023/\n\nFall semester concert of the DTones acapella group.
URL;VALUE=URI:http://www.dickinson.edu/events/event/31023/
SUMMARY:DTones Final Concert
DTSTART:20251208T010000Z
END:VEVENT
END:VCALENDAR