BEGIN:VCALENDAR
VERSION:2.0
PRODID:-//Dickinson//NONSGML v1.0//EN
CALSCALE:GREGORIAN
BEGIN:VEVENT
DTEND:20251208T000000Z
UID:69ea881c78613
DTSTAMP:20260423T205908Z
LOCATION:2789
DESCRIPTION:http://www.dickinson.edu/events/event/30931/\n\nCome join the Class of 2027 for fun night of holiday craft making with donuts and hot cocoa to celebrate the holidays! 
URL;VALUE=URI:http://www.dickinson.edu/events/event/30931/
SUMMARY:Make & Munch: Cocoa\, Crafts\, and Donuts
DTSTART:20251207T220000Z
END:VEVENT
END:VCALENDAR