BEGIN:VCALENDAR
VERSION:2.0
PRODID:-//Dickinson//NONSGML v1.0//EN
CALSCALE:GREGORIAN
BEGIN:VEVENT
DTEND:20251104T210000Z
UID:69ecf80026c13
DTSTAMP:20260425T172104Z
LOCATION:33
DESCRIPTION:http://www.dickinson.edu/events/event/30849/\n\nAll students are welcome to attend this supportive and educational program celebrating creativity\, expression\, and community care.
URL;VALUE=URI:http://www.dickinson.edu/events/event/30849/
SUMMARY:Doughnuts & A Drag Queen: Story Time with Jade DeVere
DTSTART:20251104T190000Z
END:VEVENT
END:VCALENDAR