BEGIN:VCALENDAR
VERSION:2.0
PRODID:-//Dickinson//NONSGML v1.0//EN
CALSCALE:GREGORIAN
BEGIN:VEVENT
DTEND:20260430T170000Z
UID:69eb156450f28
DTSTAMP:20260424T070156Z
LOCATION:72
DESCRIPTION:http://www.dickinson.edu/events/event/30824/\n\nAwards for Chemistry and BCMB Students are presented during the luncheon
URL;VALUE=URI:http://www.dickinson.edu/events/event/30824/
SUMMARY:Chemistry Awards Luncheon
DTSTART:20260430T160000Z
END:VEVENT
END:VCALENDAR