BEGIN:VCALENDAR
VERSION:2.0
PRODID:-//Dickinson//NONSGML v1.0//EN
CALSCALE:GREGORIAN
BEGIN:VEVENT
DTEND:20251027T220000Z
UID:69ea6fddda002
DTSTAMP:20260423T191541Z
LOCATION:7058
DESCRIPTION:http://www.dickinson.edu/events/event/30701/\n\nJoin us for fun and festive Fall pumpkin painting! 
URL;VALUE=URI:http://www.dickinson.edu/events/event/30701/
SUMMARY:Pumpkin Painting
DTSTART:20251027T210000Z
END:VEVENT
END:VCALENDAR