BEGIN:VCALENDAR
VERSION:2.0
PRODID:-//Dickinson//NONSGML v1.0//EN
CALSCALE:GREGORIAN
BEGIN:VEVENT
DTEND:20251028T000000Z
UID:69ea6fddcfc9b
DTSTAMP:20260423T191541Z
LOCATION:2323
DESCRIPTION:http://www.dickinson.edu/events/event/30519/\n\nTeam meeting where we discuss weekly business and get updates about the club. 
URL;VALUE=URI:http://www.dickinson.edu/events/event/30519/
SUMMARY:Weekly Team Meeting
DTSTART:20251027T230000Z
END:VEVENT
END:VCALENDAR