BEGIN:VCALENDAR
VERSION:2.0
PRODID:-//Dickinson//NONSGML v1.0//EN
CALSCALE:GREGORIAN
BEGIN:VEVENT
DTEND:20251122T173000Z
UID:69e903e90bd28
DTSTAMP:20260422T172249Z
LOCATION:6979
DESCRIPTION:http://www.dickinson.edu/events/event/30301/\n\nJoin fellow Dickinsonians and tour the Nationality Rooms at the Cathedral of Learning!
URL;VALUE=URI:http://www.dickinson.edu/events/event/30301/
SUMMARY:Nationality Rooms Tour
DTSTART:20251122T160000Z
END:VEVENT
END:VCALENDAR